


BEGIN:VCALENDAR
VERSION:2.0
PRODID:-//FF St. Stefan im Rosental - ECPv6.15.12.2//NONSGML v1.0//EN
CALSCALE:GREGORIAN
METHOD:PUBLISH
X-ORIGINAL-URL:https://feuerwehrststefan.com
X-WR-CALDESC:Veranstaltungen für FF St. Stefan im Rosental
REFRESH-INTERVAL;VALUE=DURATION:PT1H
X-Robots-Tag:noindex
X-PUBLISHED-TTL:PT1H
BEGIN:VTIMEZONE
TZID:Europe/Vienna
BEGIN:DAYLIGHT
TZOFFSETFROM:+0100
TZOFFSETTO:+0200
TZNAME:CEST
DTSTART:20250330T010000
END:DAYLIGHT
BEGIN:STANDARD
TZOFFSETFROM:+0200
TZOFFSETTO:+0100
TZNAME:CET
DTSTART:20251026T010000
END:STANDARD
BEGIN:DAYLIGHT
TZOFFSETFROM:+0100
TZOFFSETTO:+0200
TZNAME:CEST
DTSTART:20260329T010000
END:DAYLIGHT
BEGIN:STANDARD
TZOFFSETFROM:+0200
TZOFFSETTO:+0100
TZNAME:CET
DTSTART:20261025T010000
END:STANDARD
BEGIN:DAYLIGHT
TZOFFSETFROM:+0100
TZOFFSETTO:+0200
TZNAME:CEST
DTSTART:20270328T010000
END:DAYLIGHT
BEGIN:STANDARD
TZOFFSETFROM:+0200
TZOFFSETTO:+0100
TZNAME:CET
DTSTART:20271031T010000
END:STANDARD
END:VTIMEZONE
BEGIN:VEVENT
DTSTART;TZID=Europe/Vienna:20260228T130000
DTEND;TZID=Europe/Vienna:20260228T170000
DTSTAMP:20260416T201931
CREATED:20260210T085443Z
LAST-MODIFIED:20260210T085632Z
UID:5480-1772283600-1772298000@feuerwehrststefan.com
SUMMARY:Zukunftsworkshop
DESCRIPTION:im Feuerwehrhaus
URL:https://feuerwehrststefan.com/event/zukunftsworkshop/
CATEGORIES:Event
ATTACH;FMTTYPE=image/png:https://feuerwehrststefan.com/wp-content/uploads/2026/02/Workshop.png
END:VEVENT
BEGIN:VEVENT
DTSTART;TZID=Europe/Vienna:20260228T180000
DTEND;TZID=Europe/Vienna:20260228T190000
DTSTAMP:20260416T201931
CREATED:20260210T085607Z
LAST-MODIFIED:20260210T085607Z
UID:5483-1772301600-1772305200@feuerwehrststefan.com
SUMMARY:Festsitzung
DESCRIPTION:im Feuerwehrhaus
URL:https://feuerwehrststefan.com/event/festsitzung/
CATEGORIES:Event
ATTACH;FMTTYPE=image/jpeg:https://feuerwehrststefan.com/wp-content/uploads/2025/11/ao02-1.jpg
END:VEVENT
END:VCALENDAR