


BEGIN:VCALENDAR
VERSION:2.0
PRODID:-//FF St. Stefan im Rosental - ECPv6.15.12.2//NONSGML v1.0//EN
CALSCALE:GREGORIAN
METHOD:PUBLISH
X-ORIGINAL-URL:https://feuerwehrststefan.com
X-WR-CALDESC:Veranstaltungen für FF St. Stefan im Rosental
REFRESH-INTERVAL;VALUE=DURATION:PT1H
X-Robots-Tag:noindex
X-PUBLISHED-TTL:PT1H
BEGIN:VTIMEZONE
TZID:Europe/Vienna
BEGIN:DAYLIGHT
TZOFFSETFROM:+0100
TZOFFSETTO:+0200
TZNAME:CEST
DTSTART:20240331T010000
END:DAYLIGHT
BEGIN:STANDARD
TZOFFSETFROM:+0200
TZOFFSETTO:+0100
TZNAME:CET
DTSTART:20241027T010000
END:STANDARD
BEGIN:DAYLIGHT
TZOFFSETFROM:+0100
TZOFFSETTO:+0200
TZNAME:CEST
DTSTART:20250330T010000
END:DAYLIGHT
BEGIN:STANDARD
TZOFFSETFROM:+0200
TZOFFSETTO:+0100
TZNAME:CET
DTSTART:20251026T010000
END:STANDARD
BEGIN:DAYLIGHT
TZOFFSETFROM:+0100
TZOFFSETTO:+0200
TZNAME:CEST
DTSTART:20260329T010000
END:DAYLIGHT
BEGIN:STANDARD
TZOFFSETFROM:+0200
TZOFFSETTO:+0100
TZNAME:CET
DTSTART:20261025T010000
END:STANDARD
END:VTIMEZONE
BEGIN:VEVENT
DTSTART;VALUE=DATE:20251004
DTEND;VALUE=DATE:20251005
DTSTAMP:20260418T153449
CREATED:20250813T184405Z
LAST-MODIFIED:20250815T145825Z
UID:4901-1759536000-1759622399@feuerwehrststefan.com
SUMMARY:Abschnitts-Nassbewerb "Rosenhalle St. Stefan i. R."
DESCRIPTION:Details folgen!
URL:https://feuerwehrststefan.com/event/abschnitts-nassbewerb-rosenhalle-st-stefan-i-r/
CATEGORIES:Bewerb
ATTACH;FMTTYPE=image/jpeg:https://feuerwehrststefan.com/wp-content/uploads/2025/08/fnnass.jpg
END:VEVENT
BEGIN:VEVENT
DTSTART;TZID=Europe/Vienna:20251010T190000
DTEND;TZID=Europe/Vienna:20251010T220000
DTSTAMP:20260418T153449
CREATED:20250904T045041Z
LAST-MODIFIED:20250911T165921Z
UID:4941-1760122800-1760133600@feuerwehrststefan.com
SUMMARY:Bewerterabend des BFV Feldbach
DESCRIPTION:Rosenhalle St. Stefan i.R.
URL:https://feuerwehrststefan.com/event/bewerterabend-des-bfv-feldbach/
CATEGORIES:Event
ATTACH;FMTTYPE=image/jpeg:https://feuerwehrststefan.com/wp-content/uploads/2025/09/bewerterabend-1.jpg
END:VEVENT
BEGIN:VEVENT
DTSTART;TZID=Europe/Vienna:20251011T100000
DTEND;TZID=Europe/Vienna:20251011T170000
DTSTAMP:20260418T153449
CREATED:20250904T045239Z
LAST-MODIFIED:20250904T045239Z
UID:4944-1760176800-1760202000@feuerwehrststefan.com
SUMMARY:Bereichsfunkbewerb des BFV Feldbach
DESCRIPTION:Rosenhalle St. Stefan i.R.
URL:https://feuerwehrststefan.com/event/bereichsfunkbewerb-des-bfv-feldbach/
CATEGORIES:Bewerb
ATTACH;FMTTYPE=image/jpeg:https://feuerwehrststefan.com/wp-content/uploads/2025/09/20250828_FULA_01_banner-1.jpg
END:VEVENT
BEGIN:VEVENT
DTSTART;TZID=Europe/Vienna:20251025T182500
DTEND;TZID=Europe/Vienna:20251025T200000
DTSTAMP:20260418T153449
CREATED:20251012T083556Z
LAST-MODIFIED:20251023T101819Z
UID:5017-1761416700-1761422400@feuerwehrststefan.com
SUMMARY:Kirchgang Nationalfeiertag mit Flaggenparade
DESCRIPTION:Treffpunkt: 18:25 Uhr vor der neuen Trafik
URL:https://feuerwehrststefan.com/event/kirchgang-nationalfeiertag-mit-flaggenparade/
CATEGORIES:Sonstiges
ATTACH;FMTTYPE=image/jpeg:https://feuerwehrststefan.com/wp-content/uploads/2025/10/Flaggenparade-2-scaled.jpg
END:VEVENT
END:VCALENDAR