


BEGIN:VCALENDAR
VERSION:2.0
PRODID:-//FF St. Stefan im Rosental - ECPv6.15.12.2//NONSGML v1.0//EN
CALSCALE:GREGORIAN
METHOD:PUBLISH
X-WR-CALNAME:FF St. Stefan im Rosental
X-ORIGINAL-URL:https://feuerwehrststefan.com
X-WR-CALDESC:Veranstaltungen für FF St. Stefan im Rosental
REFRESH-INTERVAL;VALUE=DURATION:PT1H
X-Robots-Tag:noindex
X-PUBLISHED-TTL:PT1H
BEGIN:VTIMEZONE
TZID:Europe/Vienna
BEGIN:DAYLIGHT
TZOFFSETFROM:+0100
TZOFFSETTO:+0200
TZNAME:CEST
DTSTART:20240331T010000
END:DAYLIGHT
BEGIN:STANDARD
TZOFFSETFROM:+0200
TZOFFSETTO:+0100
TZNAME:CET
DTSTART:20241027T010000
END:STANDARD
BEGIN:DAYLIGHT
TZOFFSETFROM:+0100
TZOFFSETTO:+0200
TZNAME:CEST
DTSTART:20250330T010000
END:DAYLIGHT
BEGIN:STANDARD
TZOFFSETFROM:+0200
TZOFFSETTO:+0100
TZNAME:CET
DTSTART:20251026T010000
END:STANDARD
BEGIN:DAYLIGHT
TZOFFSETFROM:+0100
TZOFFSETTO:+0200
TZNAME:CEST
DTSTART:20260329T010000
END:DAYLIGHT
BEGIN:STANDARD
TZOFFSETFROM:+0200
TZOFFSETTO:+0100
TZNAME:CET
DTSTART:20261025T010000
END:STANDARD
END:VTIMEZONE
BEGIN:VEVENT
DTSTART;TZID=Europe/Vienna:20251102T090000
DTEND;TZID=Europe/Vienna:20251102T110000
DTSTAMP:20260417T130532
CREATED:20251023T042838Z
LAST-MODIFIED:20251023T045656Z
UID:5015-1762074000-1762081200@feuerwehrststefan.com
SUMMARY:BDLP Übung
DESCRIPTION:
URL:https://feuerwehrststefan.com/event/bdlp-uebung/
CATEGORIES:Übungen, Ausbildungen
ATTACH;FMTTYPE=image/jpeg:https://feuerwehrststefan.com/wp-content/uploads/2024/11/c3c51b19-fd0b-45ce-a93f-8db5636fe7ff-1-scaled.jpeg
END:VEVENT
BEGIN:VEVENT
DTSTART;TZID=Europe/Vienna:20251114T190000
DTEND;TZID=Europe/Vienna:20251114T210000
DTSTAMP:20260417T130532
CREATED:20251012T084034Z
LAST-MODIFIED:20251012T085214Z
UID:5022-1763146800-1763154000@feuerwehrststefan.com
SUMMARY:Monatsübung November
DESCRIPTION:Ort: Heizhaus \nÜbungsleiter: HLM d.V. Marcel Weinhandl
URL:https://feuerwehrststefan.com/event/monatsuebung-november/
CATEGORIES:Übungen, Ausbildungen
ATTACH;FMTTYPE=image/jpeg:https://feuerwehrststefan.com/wp-content/uploads/2024/08/Uebungen.jpg
END:VEVENT
BEGIN:VEVENT
DTSTART;TZID=Europe/Vienna:20251121T180000
DTEND;TZID=Europe/Vienna:20251121T180000
DTSTAMP:20260417T130532
CREATED:20251028T210426Z
LAST-MODIFIED:20251028T210426Z
UID:5120-1763748000-1763748000@feuerwehrststefan.com
SUMMARY:Ao. Wehrversammlung
DESCRIPTION:
URL:https://feuerwehrststefan.com/event/ao-wehrversammlung/
ATTACH;FMTTYPE=image/jpeg:https://feuerwehrststefan.com/wp-content/uploads/2025/10/AOWV.jpg
END:VEVENT
BEGIN:VEVENT
DTSTART;TZID=Europe/Vienna:20251122T090000
DTEND;TZID=Europe/Vienna:20251122T110000
DTSTAMP:20260417T130532
CREATED:20251012T084457Z
LAST-MODIFIED:20251012T084457Z
UID:5024-1763802000-1763809200@feuerwehrststefan.com
SUMMARY:ÖFAST
DESCRIPTION:im Feuerwehrhaus
URL:https://feuerwehrststefan.com/event/oefast/
CATEGORIES:Übungen, Ausbildungen
ATTACH;FMTTYPE=image/jpeg:https://feuerwehrststefan.com/wp-content/uploads/2024/10/IMG_0306-2-scaled.jpeg
END:VEVENT
END:VCALENDAR