


BEGIN:VCALENDAR
VERSION:2.0
PRODID:-//FF St. Stefan im Rosental - ECPv6.15.12.2//NONSGML v1.0//EN
CALSCALE:GREGORIAN
METHOD:PUBLISH
X-WR-CALNAME:FF St. Stefan im Rosental
X-ORIGINAL-URL:https://feuerwehrststefan.com
X-WR-CALDESC:Veranstaltungen für FF St. Stefan im Rosental
REFRESH-INTERVAL;VALUE=DURATION:PT1H
X-Robots-Tag:noindex
X-PUBLISHED-TTL:PT1H
BEGIN:VTIMEZONE
TZID:Europe/Vienna
BEGIN:DAYLIGHT
TZOFFSETFROM:+0100
TZOFFSETTO:+0200
TZNAME:CEST
DTSTART:20240331T010000
END:DAYLIGHT
BEGIN:STANDARD
TZOFFSETFROM:+0200
TZOFFSETTO:+0100
TZNAME:CET
DTSTART:20241027T010000
END:STANDARD
BEGIN:DAYLIGHT
TZOFFSETFROM:+0100
TZOFFSETTO:+0200
TZNAME:CEST
DTSTART:20250330T010000
END:DAYLIGHT
BEGIN:STANDARD
TZOFFSETFROM:+0200
TZOFFSETTO:+0100
TZNAME:CET
DTSTART:20251026T010000
END:STANDARD
BEGIN:DAYLIGHT
TZOFFSETFROM:+0100
TZOFFSETTO:+0200
TZNAME:CEST
DTSTART:20260329T010000
END:DAYLIGHT
BEGIN:STANDARD
TZOFFSETFROM:+0200
TZOFFSETTO:+0100
TZNAME:CET
DTSTART:20261025T010000
END:STANDARD
END:VTIMEZONE
BEGIN:VEVENT
DTSTART;TZID=Europe/Vienna:20251220T160000
DTEND;TZID=Europe/Vienna:20251220T160000
DTSTAMP:20260417T021938
CREATED:20251028T205207Z
LAST-MODIFIED:20251028T205207Z
UID:5118-1766246400-1766246400@feuerwehrststefan.com
SUMMARY:Glühweinstand am Marktplatz
DESCRIPTION:Alle sind herzlich eingeladen…
URL:https://feuerwehrststefan.com/event/gluehweinstand-am-marktplatz/
CATEGORIES:Event
ATTACH;FMTTYPE=image/jpeg:https://feuerwehrststefan.com/wp-content/uploads/2025/10/2-WhatsApp Image 2025-10-28 at 08.22.04 (2).jpeg
END:VEVENT
BEGIN:VEVENT
DTSTART;TZID=Europe/Vienna:20251224T090000
DTEND;TZID=Europe/Vienna:20251224T110000
DTSTAMP:20260417T021938
CREATED:20251209T153455Z
LAST-MODIFIED:20251209T153455Z
UID:5218-1766566800-1766574000@feuerwehrststefan.com
SUMMARY:Friedenslichtaktion im FW-Haus
DESCRIPTION:Wir freuen uns auf zahlreichen Besuch und Gesprächen bei Keksen und Tee…
URL:https://feuerwehrststefan.com/event/friedenslichtaktion-im-fw-haus/
LOCATION:Feuerwehrhaus\, Schichenauerstraße 1\, Sankt Stefan im Rosental\, 8083\, Austria
CATEGORIES:Sonstiges
ATTACH;FMTTYPE=image/jpeg:https://feuerwehrststefan.com/wp-content/uploads/2025/12/Friedenslicht_Abholung-FW-Haus_2025-scaled.jpg
END:VEVENT
BEGIN:VEVENT
DTSTART;TZID=Europe/Vienna:20251229T130000
DTEND;TZID=Europe/Vienna:20251229T143000
DTSTAMP:20260417T021938
CREATED:20251216T060402Z
LAST-MODIFIED:20251216T083824Z
UID:5297-1767013200-1767018600@feuerwehrststefan.com
SUMMARY:Branddienstleistungsprüfung
DESCRIPTION:3 Gruppen treten an
URL:https://feuerwehrststefan.com/event/branddienstleistungspruefung/
CATEGORIES:Bewerb
ATTACH;FMTTYPE=image/jpeg:https://feuerwehrststefan.com/wp-content/uploads/2025/12/IMG_2686.jpeg
END:VEVENT
BEGIN:VEVENT
DTSTART;TZID=Europe/Vienna:20251229T150000
DTEND;TZID=Europe/Vienna:20251229T180000
DTSTAMP:20260417T021938
CREATED:20251216T060605Z
LAST-MODIFIED:20251216T060605Z
UID:5299-1767020400-1767031200@feuerwehrststefan.com
SUMMARY:Geräteprüfungen
DESCRIPTION:
URL:https://feuerwehrststefan.com/event/geraetepruefungen/
CATEGORIES:Sonstiges
ATTACH;FMTTYPE=image/jpeg:https://feuerwehrststefan.com/wp-content/uploads/2024/12/02-2.jpg
END:VEVENT
END:VCALENDAR