


BEGIN:VCALENDAR
VERSION:2.0
PRODID:-//FF St. Stefan im Rosental - ECPv6.15.12.2//NONSGML v1.0//EN
CALSCALE:GREGORIAN
METHOD:PUBLISH
X-ORIGINAL-URL:https://feuerwehrststefan.com
X-WR-CALDESC:Veranstaltungen für FF St. Stefan im Rosental
REFRESH-INTERVAL;VALUE=DURATION:PT1H
X-Robots-Tag:noindex
X-PUBLISHED-TTL:PT1H
BEGIN:VTIMEZONE
TZID:Europe/Vienna
BEGIN:DAYLIGHT
TZOFFSETFROM:+0100
TZOFFSETTO:+0200
TZNAME:CEST
DTSTART:20250330T010000
END:DAYLIGHT
BEGIN:STANDARD
TZOFFSETFROM:+0200
TZOFFSETTO:+0100
TZNAME:CET
DTSTART:20251026T010000
END:STANDARD
BEGIN:DAYLIGHT
TZOFFSETFROM:+0100
TZOFFSETTO:+0200
TZNAME:CEST
DTSTART:20260329T010000
END:DAYLIGHT
BEGIN:STANDARD
TZOFFSETFROM:+0200
TZOFFSETTO:+0100
TZNAME:CET
DTSTART:20261025T010000
END:STANDARD
BEGIN:DAYLIGHT
TZOFFSETFROM:+0100
TZOFFSETTO:+0200
TZNAME:CEST
DTSTART:20270328T010000
END:DAYLIGHT
BEGIN:STANDARD
TZOFFSETFROM:+0200
TZOFFSETTO:+0100
TZNAME:CET
DTSTART:20271031T010000
END:STANDARD
END:VTIMEZONE
BEGIN:VEVENT
DTSTART;TZID=Europe/Vienna:20260201T093000
DTEND;TZID=Europe/Vienna:20260201T170000
DTSTAMP:20260417T035929
CREATED:20260107T185014Z
LAST-MODIFIED:20260107T185014Z
UID:5377-1769938200-1769965200@feuerwehrststefan.com
SUMMARY:Wehrversammlung
DESCRIPTION:
URL:https://feuerwehrststefan.com/event/wehrversammlung-2/
CATEGORIES:Versammlung
ATTACH;FMTTYPE=image/jpeg:https://feuerwehrststefan.com/wp-content/uploads/2025/01/20230129_100814-scaled.jpg
END:VEVENT
BEGIN:VEVENT
DTSTART;TZID=Europe/Vienna:20260214T080000
DTEND;TZID=Europe/Vienna:20260214T170000
DTSTAMP:20260417T035929
CREATED:20260127T120727Z
LAST-MODIFIED:20260127T120727Z
UID:5439-1771056000-1771088400@feuerwehrststefan.com
SUMMARY:Sanitätsleistungsprüfung BFV FB/RA
DESCRIPTION:In Bad Radkersburg im Zehnerhaus
URL:https://feuerwehrststefan.com/event/sanitaetsleistungspruefung-bfv-fb-ra/
CATEGORIES:Bewerb
ATTACH;FMTTYPE=image/jpeg:https://feuerwehrststefan.com/wp-content/uploads/2026/01/SAN_LP.jpg
END:VEVENT
BEGIN:VEVENT
DTSTART;TZID=Europe/Vienna:20260219T190000
DTEND;TZID=Europe/Vienna:20260219T210000
DTSTAMP:20260417T035929
CREATED:20260115T060546Z
LAST-MODIFIED:20260127T120143Z
UID:5410-1771527600-1771534800@feuerwehrststefan.com
SUMMARY:Monatsübung Technik
DESCRIPTION:
URL:https://feuerwehrststefan.com/event/monatsuebung-technik/
CATEGORIES:Übungen, Ausbildungen
ATTACH;FMTTYPE=image/jpeg:https://feuerwehrststefan.com/wp-content/uploads/2025/03/04.jpg
END:VEVENT
BEGIN:VEVENT
DTSTART;TZID=Europe/Vienna:20260228T130000
DTEND;TZID=Europe/Vienna:20260228T170000
DTSTAMP:20260417T035929
CREATED:20260210T085443Z
LAST-MODIFIED:20260210T085632Z
UID:5480-1772283600-1772298000@feuerwehrststefan.com
SUMMARY:Zukunftsworkshop
DESCRIPTION:im Feuerwehrhaus
URL:https://feuerwehrststefan.com/event/zukunftsworkshop/
CATEGORIES:Event
ATTACH;FMTTYPE=image/png:https://feuerwehrststefan.com/wp-content/uploads/2026/02/Workshop.png
END:VEVENT
BEGIN:VEVENT
DTSTART;TZID=Europe/Vienna:20260228T180000
DTEND;TZID=Europe/Vienna:20260228T190000
DTSTAMP:20260417T035929
CREATED:20260210T085607Z
LAST-MODIFIED:20260210T085607Z
UID:5483-1772301600-1772305200@feuerwehrststefan.com
SUMMARY:Festsitzung
DESCRIPTION:im Feuerwehrhaus
URL:https://feuerwehrststefan.com/event/festsitzung/
CATEGORIES:Event
ATTACH;FMTTYPE=image/jpeg:https://feuerwehrststefan.com/wp-content/uploads/2025/11/ao02-1.jpg
END:VEVENT
END:VCALENDAR