


BEGIN:VCALENDAR
VERSION:2.0
PRODID:-//FF St. Stefan im Rosental - ECPv6.15.12.2//NONSGML v1.0//EN
CALSCALE:GREGORIAN
METHOD:PUBLISH
X-WR-CALNAME:FF St. Stefan im Rosental
X-ORIGINAL-URL:https://feuerwehrststefan.com
X-WR-CALDESC:Veranstaltungen für FF St. Stefan im Rosental
REFRESH-INTERVAL;VALUE=DURATION:PT1H
X-Robots-Tag:noindex
X-PUBLISHED-TTL:PT1H
BEGIN:VTIMEZONE
TZID:Europe/Vienna
BEGIN:DAYLIGHT
TZOFFSETFROM:+0100
TZOFFSETTO:+0200
TZNAME:CEST
DTSTART:20250330T010000
END:DAYLIGHT
BEGIN:STANDARD
TZOFFSETFROM:+0200
TZOFFSETTO:+0100
TZNAME:CET
DTSTART:20251026T010000
END:STANDARD
BEGIN:DAYLIGHT
TZOFFSETFROM:+0100
TZOFFSETTO:+0200
TZNAME:CEST
DTSTART:20260329T010000
END:DAYLIGHT
BEGIN:STANDARD
TZOFFSETFROM:+0200
TZOFFSETTO:+0100
TZNAME:CET
DTSTART:20261025T010000
END:STANDARD
BEGIN:DAYLIGHT
TZOFFSETFROM:+0100
TZOFFSETTO:+0200
TZNAME:CEST
DTSTART:20270328T010000
END:DAYLIGHT
BEGIN:STANDARD
TZOFFSETFROM:+0200
TZOFFSETTO:+0100
TZNAME:CET
DTSTART:20271031T010000
END:STANDARD
END:VTIMEZONE
BEGIN:VEVENT
DTSTART;TZID=Europe/Vienna:20260417T160000
DTEND;TZID=Europe/Vienna:20260417T160000
DTSTAMP:20260416T004215
CREATED:20260410T163909Z
LAST-MODIFIED:20260410T163954Z
UID:5657-1776441600-1776441600@feuerwehrststefan.com
SUMMARY:Objektübung - Villa Sonnenwald
DESCRIPTION:
URL:https://feuerwehrststefan.com/event/objektuebung-villa-sonnenwald/
CATEGORIES:Übungen, Ausbildungen
ATTACH;FMTTYPE=image/jpeg:https://feuerwehrststefan.com/wp-content/uploads/2024/08/Uebungen.jpg
END:VEVENT
BEGIN:VEVENT
DTSTART;VALUE=DATE:20260418
DTEND;VALUE=DATE:20260419
DTSTAMP:20260416T004215
CREATED:20260410T164944Z
LAST-MODIFIED:20260410T164944Z
UID:5664-1776470400-1776556799@feuerwehrststefan.com
SUMMARY:Fetzenmarkt FF Jagerberg
DESCRIPTION:
URL:https://feuerwehrststefan.com/event/fetzenmarkt-ff-jagerberg/
END:VEVENT
BEGIN:VEVENT
DTSTART;TZID=Europe/Vienna:20260418T073000
DTEND;TZID=Europe/Vienna:20260418T130000
DTSTAMP:20260416T004215
CREATED:20260410T164346Z
LAST-MODIFIED:20260410T164346Z
UID:5659-1776497400-1776517200@feuerwehrststefan.com
SUMMARY:Steirischer Frühjahrsputz
DESCRIPTION:
URL:https://feuerwehrststefan.com/event/steirischer-fruehjahrsputz/
ATTACH;FMTTYPE=image/jpeg:https://feuerwehrststefan.com/wp-content/uploads/2026/03/WhatsApp-Image-2026-03-31-at-12.38.26.jpeg
END:VEVENT
BEGIN:VEVENT
DTSTART;VALUE=DATE:20260419
DTEND;VALUE=DATE:20260420
DTSTAMP:20260416T004215
CREATED:20260410T164856Z
LAST-MODIFIED:20260410T164856Z
UID:5661-1776556800-1776643199@feuerwehrststefan.com
SUMMARY:100 Jahre FF Breitenbuch
DESCRIPTION:
URL:https://feuerwehrststefan.com/event/100-jahre-ff-breitenbuch/
CATEGORIES:Event
END:VEVENT
BEGIN:VEVENT
DTSTART;VALUE=DATE:20260426
DTEND;VALUE=DATE:20260427
DTSTAMP:20260416T004215
CREATED:20260410T165031Z
LAST-MODIFIED:20260410T165031Z
UID:5666-1777161600-1777247999@feuerwehrststefan.com
SUMMARY:HLF2 - Segnung FF Stefanshart (NÖ)
DESCRIPTION:
URL:https://feuerwehrststefan.com/event/hlf2-segnung-ff-stefanshart-noe/
CATEGORIES:Event
END:VEVENT
BEGIN:VEVENT
DTSTART;VALUE=DATE:20260427
DTEND;VALUE=DATE:20260428
DTSTAMP:20260416T004215
CREATED:20260410T165139Z
LAST-MODIFIED:20260410T165722Z
UID:5668-1777248000-1777334399@feuerwehrststefan.com
SUMMARY:Zeltaufbau
DESCRIPTION:
URL:https://feuerwehrststefan.com/event/zeltaufbau/
CATEGORIES:Sonstiges
ATTACH;FMTTYPE=image/jpeg:https://feuerwehrststefan.com/wp-content/uploads/2026/04/zeltaufbau.jpg
END:VEVENT
END:VCALENDAR